BEGIN:VCALENDAR
VERSION:2.0
PRODID:-//eventon.com NONSGML v1.0//EN
BEGIN:VEVENT
UID:69e8949523720
DTSTAMP:20260422T122749
DTSTART:20151028T210500Z
DTEND:20170101T205500Z
LOCATION:Vilnius Vilnius
SUMMARY:Lūpų balzamų gamybos mokymai pradedantiesiems
DESCRIPTION: Išmokite pasigaminti lūpų priežiūros priemones savo rankomis! Lūpų balzamas naudojamas visais metų laikais. Naudojant natūralius lūpų balzamus\,  lūpos tampa švelnios ir apsaugotos nuo neigiamo aplinkos poveikio (šalčio\,  vėjo\,  karščio). Lūpų balzamų gamybos mokymai – puiki dovana sau arba artimiesiems bet kokia proga! Programa: • Lektorius papasakos apie natūralių lūpų balzamų[..]
END:VEVENT
END:VCALENDAR