BEGIN:VCALENDAR
VERSION:2.0
PRODID:-//eventon.com NONSGML v1.0//EN
BEGIN:VEVENT
UID:69e9c24f7af5b
DTSTAMP:20260423T095511
DTSTART:20160211T170000Z
DTEND:20160211T183000Z
LOCATION:Vilnius Vilnius
SUMMARY:Meilės SAU vakaras: meilės aliejų degustacija\,  magiškų kūno sviestų gamyba ir smilkalinės lazdelės kūrimas vakaro meditacijai
DESCRIPTION: Kviečiame Jus į MEILĖS SAU vakarą\,  kurio metu pažinsite save per uoslę\,  kursite nuostabius produktus savo kūnui ir sielai! Registracija tel. 868616068 arba email: ausrinesadauskaite@gmail.com Vakaro metu Jūsų laukia: --❤️ Meilės aliejų degustacija. Meilės aliejų degustacija – eterinių aliejų uodimas ir savianalizė. Analizuosime: kaip kvapas veikia mus šiuo momentu ir[..]
END:VEVENT
END:VCALENDAR