BEGIN:VCALENDAR
VERSION:2.0
PRODID:-//eventon.com NONSGML v1.0//EN
BEGIN:VEVENT
UID:69e5a7a43e91c
DTSTAMP:20260420T071220
DTSTART:20170320T153000Z
DTEND:20170320T163000Z
LOCATION:
SUMMARY:Natūralių plaukų kaukių gamyba
DESCRIPTION: Registracija baigta. Jei nespėjote patvirtinti savo dalyvavimo - kviečiu į individualų užsiėmimą\,  kurio metu kartu sudarysime Jums tinkamiausios kreminės plaukų kaukės receptą! Dėl individualių užsiėmimų kreipkitės tel. 860880538 arba el. paštu aistra@gamtoskvapai.lt Natūralių PLAUKŲ KAUKIŲ GAMYBA. Pasigaminkite plaukų kaukę\,  praturtinkite ją nuostabiausiais aliejais bei eterinių aliejų kvapais! Kaukę gaminsime iš[..]
END:VEVENT
END:VCALENDAR