BEGIN:VCALENDAR
VERSION:2.0
PRODID:-//eventon.com NONSGML v1.0//EN
BEGIN:VEVENT
UID:69e8881c8b117
DTSTAMP:20260422T113436
DTSTART:20170117T150000Z
DTEND:20170117T163000Z
LOCATION:
SUMMARY:Aromaterapinis vakaras MOTERIMS
DESCRIPTION: Sausio 17 d. Studija "Gamtos kvapai" kviečia visas merginas ir moteris skirti laiko SAU ir savo pojūčiams!   Susitikime GROŽIO VAKARE ir mėgaukimės: <3 AROMATERAPIJOS teikiamais malonumais: nuostabiais eterinių aliejų kvapais\,  galinčiais padėti ne tik pagerinti nuotaiką\,  pažadinti savyje moteriškumą\,  bet ir turinčiais terapinių savybių\,  kurios praverčia tada\,  kai mus[..]
END:VEVENT
END:VCALENDAR