BEGIN:VCALENDAR
VERSION:2.0
PRODID:-//eventon.com NONSGML v1.0//EN
BEGIN:VEVENT
UID:69ec33e4471d5
DTSTAMP:20260425T062420
DTSTART:20170503T150000Z
DTEND:20170503T170000Z
LOCATION:Lūšių g. 26\,  Vilnius 
SUMMARY:Eteriniai aliejai ir dervos namų jaukumui: namų kvapo gamyba
DESCRIPTION: Eteriniai aliejai ir dervos namų jaukumui: namų kvapo gamyba Būtina išankstinė registracija el. paštu: aistra@gamtoskvapai.lt Aromaterapija gali būti veiksminga net tada\,  kai eteriniai aliejai naudojami namų ruošoje. Su įkvėpimu\,  dalis eterinių aliejų dalelių patenka į mūsų organizmą per kvėpavimo takus. Kai taip atsitinka\,  užuodus aromatą\,  mes jį susiejame su tam[..]
END:VEVENT
END:VCALENDAR