BEGIN:VCALENDAR
VERSION:2.0
PRODID:-//eventon.com NONSGML v1.0//EN
BEGIN:VEVENT
UID:69eaf94ec14c7
DTSTAMP:20260424T080206
DTSTART:20180309T050000Z
DTEND:20180309T170000Z
LOCATION:
SUMMARY:Natūralių lūpų balzamų ir vonios druskų gamybos užsiėmimas
DESCRIPTION: Kovo 9 d. kviečiu pasirinkti tinkamą laiką šiam užsiėmimui ir skirti valandėlę natūralių lūpų balzamų ir vonios druskų su eteriniais aliejais gamybai! Po užsiėmimo džiaugsitės savo gamybos produktais\,  praturtintomis žiniomis\,  o receptai liks Jums\,  tad galėsite šiuos produktus gaminti ir savo artimiesiems bei draugams. Dirbtuvių metu gaminsite: • KVAPNIAS VONIOS[..]
END:VEVENT
END:VCALENDAR