BEGIN:VCALENDAR
VERSION:2.0
PRODID:-//eventon.com NONSGML v1.0//EN
BEGIN:VEVENT
UID:69ed08904c19f
DTSTAMP:20260425T213144
DTSTART:20220413T153000Z
DTEND:20220413T170000Z
LOCATION:
SUMMARY:Velykų žvakių gamyba
DESCRIPTION: Kviečiu pasigaminti sojų ir bičių vaško žvakių Velykų stalui. Gaminsime: ❤ Žvakes indeliuose ❤ Suktas bičių vaško žvakes ❤ Papasakosiu kaip pagaminti kiaušinio formos žvakę ir pusinę žvakę kiaušinio lukšte. ❤Naudosime dažus ir kvapus. Sužinosite apie žvakių gamybą ir galėsite jas gaminti savarankiškai namuose. Kaina: 20 EUR Registracija: aistra@gamtoskvapai.lt arba[..]
END:VEVENT
END:VCALENDAR