BEGIN:VCALENDAR
VERSION:2.0
PRODID:-//eventon.com NONSGML v1.0//EN
BEGIN:VEVENT
UID:69e8dc9fe56c0
DTSTAMP:20260422T173511
DTSTART:20231201T150000Z
DTEND:20231201T180000Z
LOCATION:Gamtos kvapai studija Gėlių g. 4 -R1\,  Vilnius 
SUMMARY:DOVANŲ GAMYBOS DIRBTUVĖS: ŠVEITIKLIAI\,  VONIOS BURBULAI\,  LŪPŲ BALZAMAI\,  MUILAS
DESCRIPTION: Gruodžio 1 d. 18 val. ir gruodžio 16 d. 11 val.  DOVANŲ GAMYBOS DIRBTUVĖS: ŠVEITIKLIAI\,  VONIOS BURBULAI\,  LŪPŲ BALZAMAI\,  MUILAS Šių dirbtuvių metu gaminsime: ŠVEITIKLIAI kūnui . Gaminsime šveitiklius kūnui su cukrumi\,  druska\,  malta kava ar moliu\,  eteriniais aliejais ir pasirinktu augaliniu aliejumi\,  60 ml rudo stiklo užsukamas indelis Jūsų[..]
END:VEVENT
END:VCALENDAR