BEGIN:VCALENDAR
VERSION:2.0
PRODID:-//eventon.com NONSGML v1.0//EN
BEGIN:VEVENT
UID:69eb7fd8adcfe
DTSTAMP:20260424T173608
DTSTART:20231119T090000Z
DTEND:20231119T100000Z
LOCATION:
SUMMARY:Natūralaus lūpų blizgio gamyba
DESCRIPTION: Natūralų lūpų blizgį pasigaminsite iš augalinių aliejų ir vaškų\,  spalvai suteikti naudosite mineralinius pigmentus. Pagamintas lūpų blizgis suteiks minkštumo pojūtį ir blizgesį bei norimą atspalvį lūpoms. Edukacija vyks kvapniausioje miesto studijoje Gamtos kvapai (Gėlių g. 4\,  Vilniuje) Užsiėmimą veda Gamtos kvapai įkūrėja Aistra Kazlauskienė Užsiėmimo kaina: 20 EUR Trukmė: 1[..]
END:VEVENT
END:VCALENDAR