BEGIN:VCALENDAR
VERSION:2.0
PRODID:-//eventon.com NONSGML v1.0//EN
BEGIN:VEVENT
UID:69e7e7c6c0d85
DTSTAMP:20260422T001030
DTSTART:20231210T080000Z
DTEND:20231210T100000Z
LOCATION:Gamtos kvapai studija Gėlių g. 4 -R1\,  Vilnius 
SUMMARY:KALĖDINĖ EDUKACIJA VAIKAMS VILNIUJE - Samanota eglutė
DESCRIPTION: Kasmet stengiuosi sugalvoti kažką naujo\,  įdomaus ir būtinai puošiančio vaikų kambarius! Šiemet - ne išimtis! Kviečiu visus vaikus į nuostabią Kalėdinę edukaciją “Stilizuota samanota eglutė” Šių metų vaikų edukacijos pavydžiai - daryti mano mergaičių - antrokės ir penktokės. Užduotis įveikiama ir teikia didžiulį džiaugsmą tiek pradinukams\,  tiek ir vyresniems. Kiekviena[..]
END:VEVENT
END:VCALENDAR